BEGIN:VCALENDAR
VERSION:2.0
PRODID:-//Ballonvarenrosmalen
CALSCALE:GREGORIAN
METHOD:PUBLISH
X-WR-CALNAME:Ballonvarenrosmalen
X-ORIGINAL-URL:https://ballonvarenrosmalen.nl/product/ballonvaart-tilburg-festival-kopie/
X-WR-CALDESC:Ballonvaart Tilburg Festival
BEGIN:VEVENT
DTSTART;TZID=Europe/Paris:20260509T180000
DTEND;TZID=Europe/Paris:20260509T210000
SUMMARY:Ballonvaart Tilburg Festival
DESCRIPTION:U boekt een plekje in de PH-PUB, deze ballon heeft een capaciteit van 8 tot 12 passagiers. De opstijglocatie is de Pettelaarse Schans tenzij we vanwege windrichting en/of windsnelheid moeten uitwijken. De definitieve locatie (altijd omgeving ‘s-Hertogenbosch/Rosmalen) wordt op de dag zelf bepaald door de piloot.
URL:https://ballonvarenrosmalen.nl/product/ballonvaart-tilburg-festival-kopie/
LOCATION:
END:VEVENT
END:VCALENDAR
